BEGIN:VCALENDAR
VERSION:2.0
PRODID:-//Eligible - ECPv6.15.15//NONSGML v1.0//EN
CALSCALE:GREGORIAN
METHOD:PUBLISH
X-WR-CALNAME:Eligible
X-ORIGINAL-URL:https://readyandeligible.com
X-WR-CALDESC:Events for Eligible
REFRESH-INTERVAL;VALUE=DURATION:PT1H
X-Robots-Tag:noindex
X-PUBLISHED-TTL:PT1H
BEGIN:VTIMEZONE
TZID:America/New_York
BEGIN:DAYLIGHT
TZOFFSETFROM:-0500
TZOFFSETTO:-0400
TZNAME:EDT
DTSTART:20250309T070000
END:DAYLIGHT
BEGIN:STANDARD
TZOFFSETFROM:-0400
TZOFFSETTO:-0500
TZNAME:EST
DTSTART:20251102T060000
END:STANDARD
BEGIN:DAYLIGHT
TZOFFSETFROM:-0500
TZOFFSETTO:-0400
TZNAME:EDT
DTSTART:20260308T070000
END:DAYLIGHT
BEGIN:STANDARD
TZOFFSETFROM:-0400
TZOFFSETTO:-0500
TZNAME:EST
DTSTART:20261101T060000
END:STANDARD
BEGIN:DAYLIGHT
TZOFFSETFROM:-0500
TZOFFSETTO:-0400
TZNAME:EDT
DTSTART:20270314T070000
END:DAYLIGHT
BEGIN:STANDARD
TZOFFSETFROM:-0400
TZOFFSETTO:-0500
TZNAME:EST
DTSTART:20271107T060000
END:STANDARD
END:VTIMEZONE
BEGIN:VEVENT
DTSTART;TZID=America/New_York:20260211T180000
DTEND;TZID=America/New_York:20260211T193000
DTSTAMP:20260420T055606
CREATED:20260106T225616Z
LAST-MODIFIED:20260202T192229Z
UID:10000533-1770832800-1770838200@readyandeligible.com
SUMMARY:Rebuilding and Winning in Love
DESCRIPTION:Soul Food Conversation\nThis Soul Food Conversation is a journey through the experiences that are shaping your relationships\, for better or worse.  \nYou won’t hear a lecture or an open mic venting session. This is a thoughtful conversation designed to reveal truth and real solutions. \nTickets include appetizers\, fun games with prizes\, and tools for intentional dating.
URL:https://readyandeligible.com/event/soul-food-conversation-love-and-legacy/
LOCATION:Villa U\, 6 Pointe Circle\, Greenville\, SC\, 29615\, United States
ORGANIZER;CN="Eligible":MAILTO:info@readyandeligible.com
END:VEVENT
END:VCALENDAR