BEGIN:VCALENDAR
VERSION:2.0
PRODID:-//Eligible - ECPv6.15.15//NONSGML v1.0//EN
CALSCALE:GREGORIAN
METHOD:PUBLISH
X-WR-CALNAME:Eligible
X-ORIGINAL-URL:https://readyandeligible.com
X-WR-CALDESC:Events for Eligible
REFRESH-INTERVAL;VALUE=DURATION:PT1H
X-Robots-Tag:noindex
X-PUBLISHED-TTL:PT1H
BEGIN:VTIMEZONE
TZID:America/New_York
BEGIN:DAYLIGHT
TZOFFSETFROM:-0500
TZOFFSETTO:-0400
TZNAME:EDT
DTSTART:20240310T070000
END:DAYLIGHT
BEGIN:STANDARD
TZOFFSETFROM:-0400
TZOFFSETTO:-0500
TZNAME:EST
DTSTART:20241103T060000
END:STANDARD
BEGIN:DAYLIGHT
TZOFFSETFROM:-0500
TZOFFSETTO:-0400
TZNAME:EDT
DTSTART:20250309T070000
END:DAYLIGHT
BEGIN:STANDARD
TZOFFSETFROM:-0400
TZOFFSETTO:-0500
TZNAME:EST
DTSTART:20251102T060000
END:STANDARD
BEGIN:DAYLIGHT
TZOFFSETFROM:-0500
TZOFFSETTO:-0400
TZNAME:EDT
DTSTART:20260308T070000
END:DAYLIGHT
BEGIN:STANDARD
TZOFFSETFROM:-0400
TZOFFSETTO:-0500
TZNAME:EST
DTSTART:20261101T060000
END:STANDARD
END:VTIMEZONE
BEGIN:VEVENT
DTSTART;TZID=America/New_York:20251217T173000
DTEND;TZID=America/New_York:20251217T200000
DTSTAMP:20260423T191552
CREATED:20251119T033551Z
LAST-MODIFIED:20251119T033551Z
UID:10000532-1765992600-1766001600@readyandeligible.com
SUMMARY:Soul Food Conversation: Are They Ready for Commitment?
DESCRIPTION:In the early stages of dating\, it can be difficult to discern if the person is interested in a committed relationship. They may say the right things\, but their behaviors don’t align. Join us for a conversation about the signs that tell you a man or woman is ready for commitment. \nEligible’s Soul Food Conversations are where good vibes\, great food\, and meaningful connections come together! Designed for Black singles who crave real conversations\, personal growth\, and a strong sense of community\, these events are all about building bonds that go beyond small talk. Come for the soul food\, stay for the soul work — it’s the perfect mix of fellowship\, flavor\, and future-minded dating. \nThis event includes soulful appetizers\, beverages and conversation with Eligible singles and successful new couples. \nPre-purchase tickets or pay at the door.
URL:https://readyandeligible.com/event/soul-food-conversation-aretheyready/
LOCATION:Villa U\, 6 Pointe Circle\, Greenville\, SC\, 29615\, United States
ATTACH;FMTTYPE=image/png:https://readyandeligible.com/wp-content/uploads/2025/11/soulfoodv2.png
ORGANIZER;CN="Eligible":MAILTO:info@readyandeligible.com
END:VEVENT
END:VCALENDAR