BEGIN:VCALENDAR
VERSION:2.0
PRODID:-//Eligible - ECPv6.15.15//NONSGML v1.0//EN
CALSCALE:GREGORIAN
METHOD:PUBLISH
X-WR-CALNAME:Eligible
X-ORIGINAL-URL:https://readyandeligible.com
X-WR-CALDESC:Events for Eligible
REFRESH-INTERVAL;VALUE=DURATION:PT1H
X-Robots-Tag:noindex
X-PUBLISHED-TTL:PT1H
BEGIN:VTIMEZONE
TZID:America/New_York
BEGIN:DAYLIGHT
TZOFFSETFROM:-0500
TZOFFSETTO:-0400
TZNAME:EDT
DTSTART:20240310T070000
END:DAYLIGHT
BEGIN:STANDARD
TZOFFSETFROM:-0400
TZOFFSETTO:-0500
TZNAME:EST
DTSTART:20241103T060000
END:STANDARD
BEGIN:DAYLIGHT
TZOFFSETFROM:-0500
TZOFFSETTO:-0400
TZNAME:EDT
DTSTART:20250309T070000
END:DAYLIGHT
BEGIN:STANDARD
TZOFFSETFROM:-0400
TZOFFSETTO:-0500
TZNAME:EST
DTSTART:20251102T060000
END:STANDARD
BEGIN:DAYLIGHT
TZOFFSETFROM:-0500
TZOFFSETTO:-0400
TZNAME:EDT
DTSTART:20260308T070000
END:DAYLIGHT
BEGIN:STANDARD
TZOFFSETFROM:-0400
TZOFFSETTO:-0500
TZNAME:EST
DTSTART:20261101T060000
END:STANDARD
END:VTIMEZONE
BEGIN:VEVENT
DTSTART;TZID=America/New_York:20250928T180000
DTEND;TZID=America/New_York:20250928T200000
DTSTAMP:20260421T045046
CREATED:20250526T191646Z
LAST-MODIFIED:20250828T164416Z
UID:10000268-1759082400-1759089600@readyandeligible.com
SUMMARY:Soul Food Sunday - Can Black Singles Find Love In the Upstate?
DESCRIPTION:Eligible’s Soul Food Sundays are where good vibes\, great food\, and meaningful connections come together! Designed for Black singles who crave real conversations\, personal growth\, and a strong sense of community\, these events are all about building bonds that go beyond small talk. Come for the soul food\, stay for the soul work — it’s the perfect mix of fellowship\, flavor\, and future-minded dating. \nThis event includes soulful appetizers\, beverages and conversation with Eligible singles and successful new couples. Vegan options will be available. \n 
URL:https://readyandeligible.com/event/soul-food-sunday-2/
LOCATION:Villa U\, 6 Pointe Circle\, Greenville\, SC\, 29615\, United States
ATTACH;FMTTYPE=image/png:https://readyandeligible.com/wp-content/uploads/2025/05/soulfood-sunday.png
ORGANIZER;CN="Eligible":MAILTO:info@readyandeligible.com
END:VEVENT
END:VCALENDAR