BEGIN:VCALENDAR
VERSION:2.0
PRODID:-//Eligible - ECPv6.15.15//NONSGML v1.0//EN
CALSCALE:GREGORIAN
METHOD:PUBLISH
X-WR-CALNAME:Eligible
X-ORIGINAL-URL:https://readyandeligible.com
X-WR-CALDESC:Events for Eligible
REFRESH-INTERVAL;VALUE=DURATION:PT1H
X-Robots-Tag:noindex
X-PUBLISHED-TTL:PT1H
BEGIN:VTIMEZONE
TZID:America/New_York
BEGIN:DAYLIGHT
TZOFFSETFROM:-0500
TZOFFSETTO:-0400
TZNAME:EDT
DTSTART:20250309T070000
END:DAYLIGHT
BEGIN:STANDARD
TZOFFSETFROM:-0400
TZOFFSETTO:-0500
TZNAME:EST
DTSTART:20251102T060000
END:STANDARD
BEGIN:DAYLIGHT
TZOFFSETFROM:-0500
TZOFFSETTO:-0400
TZNAME:EDT
DTSTART:20260308T070000
END:DAYLIGHT
BEGIN:STANDARD
TZOFFSETFROM:-0400
TZOFFSETTO:-0500
TZNAME:EST
DTSTART:20261101T060000
END:STANDARD
BEGIN:DAYLIGHT
TZOFFSETFROM:-0500
TZOFFSETTO:-0400
TZNAME:EDT
DTSTART:20270314T070000
END:DAYLIGHT
BEGIN:STANDARD
TZOFFSETFROM:-0400
TZOFFSETTO:-0500
TZNAME:EST
DTSTART:20271107T060000
END:STANDARD
END:VTIMEZONE
BEGIN:VEVENT
DTSTART;TZID=America/New_York:20260422T180000
DTEND;TZID=America/New_York:20260516T200000
DTSTAMP:20260422T035449
CREATED:20260207T222035Z
LAST-MODIFIED:20260409T125811Z
UID:10000534-1776880800-1778961600@readyandeligible.com
SUMMARY:21 Day Journey to Love
DESCRIPTION:21 Days to Love\nA Guided Journey to the Love You Desire \nLove isn’t something we find by accident. It’s something we prepare for. \nJoin us in person for the 21 Days to Love kickoff on April 1st. Build deep self-awareness\, understand your unique relationship patterns\, and clear the unseen blocks that may be standing between you and the love you truly desire. \nHow the Journey Works\n🌀 21 Days of Guided Heart WorkDaily prompts\, reflections\, and practices designed to offer insight\, healing\, and clarity. \n💬 3 Live Group SessionsConnect for teaching\, reflection\, and shared wisdom. You’ll hear from relationship coaches and from couples in successful relationships. These sessions help to build community and accountability. We’ll complete the journey with fellowship and fun. \nReady when you are.
URL:https://readyandeligible.com/event/3919/
LOCATION:Villa U\, 6 Pointe Circle\, Greenville\, SC\, 29615\, United States
ORGANIZER;CN="Eligible":MAILTO:info@readyandeligible.com
END:VEVENT
END:VCALENDAR